BEGIN:VCALENDAR
VERSION:2.0
PRODID:-//Ace of Cups Maui - ECPv6.15.20//NONSGML v1.0//EN
CALSCALE:GREGORIAN
METHOD:PUBLISH
X-ORIGINAL-URL:https://aceofcupsmaui.com
X-WR-CALDESC:Events for Ace of Cups Maui
REFRESH-INTERVAL;VALUE=DURATION:PT1H
X-Robots-Tag:noindex
X-PUBLISHED-TTL:PT1H
BEGIN:VTIMEZONE
TZID:Pacific/Honolulu
BEGIN:STANDARD
TZOFFSETFROM:-1000
TZOFFSETTO:-1000
TZNAME:HST
DTSTART:20230101T000000
END:STANDARD
END:VTIMEZONE
BEGIN:VEVENT
DTSTART;TZID=Pacific/Honolulu:20260410T180000
DTEND;TZID=Pacific/Honolulu:20260410T200000
DTSTAMP:20260423T020309
CREATED:20260402T180005Z
LAST-MODIFIED:20260409T215744Z
UID:1486-1775844000-1775851200@aceofcupsmaui.com
SUMMARY:Women's Gathering
DESCRIPTION:Join us for our monthly Late Night at Ace of Cups! Connect and meet other Tarot enthusiasts! We’ll have a table set up for trading deck cards that you don’t connect with\, so you can swap and play. This is a fantastic opportunity to practice reading for others and spend quality time with our wonderful community. We can’t wait to see you there and share some joyful moments together!
URL:https://aceofcupsmaui.com/event/womens-gathering/
LOCATION:Ace of Cups Maui\, 810 Kokomo Road Unit 184\, Haiku\, HI\, 96708
ATTACH;FMTTYPE=image/jpeg:https://aceofcupsmaui.com/wp-content/uploads/2026/04/ace-of-cups-womens-gathering-april-2026-postponed.jpg
END:VEVENT
BEGIN:VEVENT
DTSTART;TZID=Pacific/Honolulu:20260408T183000
DTEND;TZID=Pacific/Honolulu:20260408T200000
DTSTAMP:20260423T020309
CREATED:20260402T180654Z
LAST-MODIFIED:20260402T184817Z
UID:1479-1775673000-1775678400@aceofcupsmaui.com
SUMMARY:Intuitive Circle
DESCRIPTION:Join us for our monthly Late Night at Ace of Cups! Connect and meet other Tarot enthusiasts! We’ll have a table set up for trading deck cards that you don’t connect with\, so you can swap and play. This is a fantastic opportunity to practice reading for others and spend quality time with our wonderful community. We can’t wait to see you there and share some joyful moments together!
URL:https://aceofcupsmaui.com/event/intuitive-circle-april-2026/
LOCATION:Ace of Cups Maui\, 810 Kokomo Road Unit 184\, Haiku\, HI\, 96708
ATTACH;FMTTYPE=image/jpeg:https://aceofcupsmaui.com/wp-content/uploads/2026/04/ace-of-cups-intuitive-circle-april-2026.jpg
END:VEVENT
BEGIN:VEVENT
DTSTART;TZID=Pacific/Honolulu:20260320T180000
DTEND;TZID=Pacific/Honolulu:20260320T203000
DTSTAMP:20260423T020309
CREATED:20260303T200722Z
LAST-MODIFIED:20260303T205538Z
UID:1443-1774029600-1774038600@aceofcupsmaui.com
SUMMARY:Lunar Witchcraft & Art Journaling
DESCRIPTION:Join us for our monthly Late Night at Ace of Cups! Connect and meet other Tarot enthusiasts! We’ll have a table set up for trading deck cards that you don’t connect with\, so you can swap and play. This is a fantastic opportunity to practice reading for others and spend quality time with our wonderful community. We can’t wait to see you there and share some joyful moments together!
URL:https://aceofcupsmaui.com/event/lunar-witchcraft-art-journaling-march-2026/
LOCATION:Ace of Cups Maui\, 810 Kokomo Road Unit 184\, Haiku\, HI\, 96708
ATTACH;FMTTYPE=image/jpeg:https://aceofcupsmaui.com/wp-content/uploads/2026/03/lunar-witchcraft-art-journaling-ace-of-cups-march-2026.jpg
END:VEVENT
BEGIN:VEVENT
DTSTART;TZID=Pacific/Honolulu:20260318T183000
DTEND;TZID=Pacific/Honolulu:20260318T200000
DTSTAMP:20260423T020309
CREATED:20260303T203545Z
LAST-MODIFIED:20260303T205205Z
UID:1452-1773858600-1773864000@aceofcupsmaui.com
SUMMARY:Intuitive Circle
DESCRIPTION:Join us for our monthly Late Night at Ace of Cups! Connect and meet other Tarot enthusiasts! We’ll have a table set up for trading deck cards that you don’t connect with\, so you can swap and play. This is a fantastic opportunity to practice reading for others and spend quality time with our wonderful community. We can’t wait to see you there and share some joyful moments together!
URL:https://aceofcupsmaui.com/event/intuitive-circle-march-2026/
LOCATION:Ace of Cups Maui\, 810 Kokomo Road Unit 184\, Haiku\, HI\, 96708
ATTACH;FMTTYPE=image/jpeg:https://aceofcupsmaui.com/wp-content/uploads/2026/03/ace-of-cups-intuitive-circle-march-2026.jpg
END:VEVENT
BEGIN:VEVENT
DTSTART;TZID=Pacific/Honolulu:20260313T180000
DTEND;TZID=Pacific/Honolulu:20260313T200000
DTSTAMP:20260423T020309
CREATED:20260303T205004Z
LAST-MODIFIED:20260303T205038Z
UID:1458-1773424800-1773432000@aceofcupsmaui.com
SUMMARY:March Late Night
DESCRIPTION:Join us for our monthly Late Night at Ace of Cups! Connect and meet other Tarot enthusiasts! We’ll have a table set up for trading deck cards that you don’t connect with\, so you can swap and play. This is a fantastic opportunity to practice reading for others and spend quality time with our wonderful community. We can’t wait to see you there and share some joyful moments together!
URL:https://aceofcupsmaui.com/event/march-late-night-2026/
LOCATION:Ace of Cups Maui\, 810 Kokomo Road Unit 184\, Haiku\, HI\, 96708
ATTACH;FMTTYPE=image/jpeg:https://aceofcupsmaui.com/wp-content/uploads/2026/03/ace-of-cups-late-night-march-2026.jpg
END:VEVENT
BEGIN:VEVENT
DTSTART;TZID=Pacific/Honolulu:20260303T183000
DTEND;TZID=Pacific/Honolulu:20260303T203000
DTSTAMP:20260423T020309
CREATED:20260303T205501Z
LAST-MODIFIED:20260303T210732Z
UID:1436-1772562600-1772569800@aceofcupsmaui.com
SUMMARY:Eclipse Portal
DESCRIPTION:Join us for our monthly Late Night at Ace of Cups! Connect and meet other Tarot enthusiasts! We’ll have a table set up for trading deck cards that you don’t connect with\, so you can swap and play. This is a fantastic opportunity to practice reading for others and spend quality time with our wonderful community. We can’t wait to see you there and share some joyful moments together!
URL:https://aceofcupsmaui.com/event/eclipse-portal-march-2026/
LOCATION:Ace of Cups Maui\, 810 Kokomo Road Unit 184\, Haiku\, HI\, 96708
ATTACH;FMTTYPE=image/jpeg:https://aceofcupsmaui.com/wp-content/uploads/2026/03/eclipse-portal-march-2026.jpg
END:VEVENT
BEGIN:VEVENT
DTSTART;TZID=Pacific/Honolulu:20260218T183000
DTEND;TZID=Pacific/Honolulu:20260218T200000
DTSTAMP:20260423T020309
CREATED:20260203T013727Z
LAST-MODIFIED:20260203T182547Z
UID:1428-1771439400-1771444800@aceofcupsmaui.com
SUMMARY:Intuitive Circle
DESCRIPTION:Join us for our monthly Late Night at Ace of Cups! Connect and meet other Tarot enthusiasts! We’ll have a table set up for trading deck cards that you don’t connect with\, so you can swap and play. This is a fantastic opportunity to practice reading for others and spend quality time with our wonderful community. We can’t wait to see you there and share some joyful moments together!
URL:https://aceofcupsmaui.com/event/intuitive-circle-feb-2026/
LOCATION:Ace of Cups Maui\, 810 Kokomo Road Unit 184\, Haiku\, HI\, 96708
ATTACH;FMTTYPE=image/jpeg:https://aceofcupsmaui.com/wp-content/uploads/2026/02/ace-of-cups-intuitive-circle-feb-2026.jpg
END:VEVENT
BEGIN:VEVENT
DTSTART;TZID=Pacific/Honolulu:20260213T180000
DTEND;TZID=Pacific/Honolulu:20260213T200000
DTSTAMP:20260423T020309
CREATED:20260203T013051Z
LAST-MODIFIED:20260203T013224Z
UID:1424-1771005600-1771012800@aceofcupsmaui.com
SUMMARY:February Late Night
DESCRIPTION:Join us for our monthly Late Night at Ace of Cups! Connect and meet other Tarot enthusiasts! We’ll have a table set up for trading deck cards that you don’t connect with\, so you can swap and play. This is a fantastic opportunity to practice reading for others and spend quality time with our wonderful community. We can’t wait to see you there and share some joyful moments together!
URL:https://aceofcupsmaui.com/event/february-late-night-2026/
LOCATION:Ace of Cups Maui\, 810 Kokomo Road Unit 184\, Haiku\, HI\, 96708
ATTACH;FMTTYPE=image/jpeg:https://aceofcupsmaui.com/wp-content/uploads/2026/02/ace-of-cups-late-night-february-2026.jpg
END:VEVENT
BEGIN:VEVENT
DTSTART;TZID=Pacific/Honolulu:20260114T180000
DTEND;TZID=Pacific/Honolulu:20260114T200000
DTSTAMP:20260423T020309
CREATED:20260103T031312Z
LAST-MODIFIED:20260103T031312Z
UID:1363-1768413600-1768420800@aceofcupsmaui.com
SUMMARY:January Late Night
DESCRIPTION:Join us for our monthly Late Night at Ace of Cups! Connect and meet other Tarot enthusiasts! We’ll have a table set up for trading deck cards that you don’t connect with\, so you can swap and play. This is a fantastic opportunity to practice reading for others and spend quality time with our wonderful community. We can’t wait to see you there and share some joyful moments together!
URL:https://aceofcupsmaui.com/event/december-late-night-2026/
LOCATION:Ace of Cups Maui\, 810 Kokomo Road Unit 184\, Haiku\, HI\, 96708
ATTACH;FMTTYPE=image/jpeg:https://aceofcupsmaui.com/wp-content/uploads/2026/01/ace-of-cups-late-night-january-2026.jpg
END:VEVENT
BEGIN:VEVENT
DTSTART;TZID=Pacific/Honolulu:20251210T180000
DTEND;TZID=Pacific/Honolulu:20251210T200000
DTSTAMP:20260423T020309
CREATED:20251201T232744Z
LAST-MODIFIED:20251206T002159Z
UID:1353-1765389600-1765396800@aceofcupsmaui.com
SUMMARY:December Late Night
DESCRIPTION:Join us for our monthly Late Night at Ace of Cups! Connect and meet other Tarot enthusiasts! We’ll have a table set up for trading deck cards that you don’t connect with\, so you can swap and play. This is a fantastic opportunity to practice reading for others and spend quality time with our wonderful community. We can’t wait to see you there and share some joyful moments together!
URL:https://aceofcupsmaui.com/event/december-late-night-2025/
LOCATION:Ace of Cups Maui\, 810 Kokomo Road Unit 184\, Haiku\, HI\, 96708
ATTACH;FMTTYPE=image/jpeg:https://aceofcupsmaui.com/wp-content/uploads/2025/12/ace-of-cups-late-night-december-2025-1.jpg
END:VEVENT
BEGIN:VEVENT
DTSTART;TZID=Pacific/Honolulu:20251112T180000
DTEND;TZID=Pacific/Honolulu:20251112T200000
DTSTAMP:20260423T020309
CREATED:20251102T014400Z
LAST-MODIFIED:20251102T014400Z
UID:1346-1762970400-1762977600@aceofcupsmaui.com
SUMMARY:November Late Night
DESCRIPTION:Join us for our monthly Late Night at Ace of Cups! Connect and meet other Tarot enthusiasts! We’ll have a table set up for trading deck cards that you don’t connect with\, so you can swap and play. This is a fantastic opportunity to practice reading for others and spend quality time with our wonderful community. We can’t wait to see you there and share some joyful moments together!
URL:https://aceofcupsmaui.com/event/november-late-night-2025/
LOCATION:Ace of Cups Maui\, 810 Kokomo Road Unit 184\, Haiku\, HI\, 96708
ATTACH;FMTTYPE=image/jpeg:https://aceofcupsmaui.com/wp-content/uploads/2025/11/ace-of-cups-maui-event-late-night-nov-2025.jpg
END:VEVENT
BEGIN:VEVENT
DTSTART;TZID=Pacific/Honolulu:20251015T180000
DTEND;TZID=Pacific/Honolulu:20251015T200000
DTSTAMP:20260423T020309
CREATED:20251002T054327Z
LAST-MODIFIED:20251002T054724Z
UID:1300-1760551200-1760558400@aceofcupsmaui.com
SUMMARY:October Late Night
DESCRIPTION:Join us for our monthly Late Night at Ace of Cups! Connect and meet other Tarot enthusiasts! We’ll have a table set up for trading deck cards that you don’t connect with\, so you can swap and play. This is a fantastic opportunity to practice reading for others and spend quality time with our wonderful community. We can’t wait to see you there and share some joyful moments together!
URL:https://aceofcupsmaui.com/event/october-late-night-2025/
LOCATION:Ace of Cups Maui\, 810 Kokomo Road Unit 184\, Haiku\, HI\, 96708
ATTACH;FMTTYPE=image/jpeg:https://aceofcupsmaui.com/wp-content/uploads/2025/10/ace-of-cups-late-night-oct-2025.jpg
END:VEVENT
BEGIN:VEVENT
DTSTART;TZID=Pacific/Honolulu:20251011T150000
DTEND;TZID=Pacific/Honolulu:20251011T180000
DTSTAMP:20260423T020309
CREATED:20251002T062414Z
LAST-MODIFIED:20251002T063255Z
UID:1325-1760194800-1760205600@aceofcupsmaui.com
SUMMARY:Haloween Portraits
DESCRIPTION:Join us for our monthly Late Night at Ace of Cups! Connect and meet other Tarot enthusiasts! We’ll have a table set up for trading deck cards that you don’t connect with\, so you can swap and play. This is a fantastic opportunity to practice reading for others and spend quality time with our wonderful community. We can’t wait to see you there and share some joyful moments together!
URL:https://aceofcupsmaui.com/event/haloween-portraits-oct-2025/
LOCATION:Ace of Cups Maui\, 810 Kokomo Road Unit 184\, Haiku\, HI\, 96708
ATTACH;FMTTYPE=image/jpeg:https://aceofcupsmaui.com/wp-content/uploads/2025/10/ace-of-cups-halloween-portraits-october-2025.jpg
END:VEVENT
BEGIN:VEVENT
DTSTART;TZID=Pacific/Honolulu:20251011T150000
DTEND;TZID=Pacific/Honolulu:20251011T180000
DTSTAMP:20260423T020309
CREATED:20251002T055449Z
LAST-MODIFIED:20251002T060046Z
UID:1308-1760194800-1760205600@aceofcupsmaui.com
SUMMARY:Halloween Market
DESCRIPTION:Join us for our monthly Late Night at Ace of Cups! Connect and meet other Tarot enthusiasts! We’ll have a table set up for trading deck cards that you don’t connect with\, so you can swap and play. This is a fantastic opportunity to practice reading for others and spend quality time with our wonderful community. We can’t wait to see you there and share some joyful moments together!
URL:https://aceofcupsmaui.com/event/halloween-market-2025/
LOCATION:Ace of Cups Maui\, 810 Kokomo Road Unit 184\, Haiku\, HI\, 96708
ATTACH;FMTTYPE=image/jpeg:https://aceofcupsmaui.com/wp-content/uploads/2025/10/ace-of-cups-halloween-market-oct-2025.jpg
END:VEVENT
BEGIN:VEVENT
DTSTART;TZID=Pacific/Honolulu:20251009T183000
DTEND;TZID=Pacific/Honolulu:20251009T200000
DTSTAMP:20260423T020309
CREATED:20251002T064611Z
LAST-MODIFIED:20251002T065233Z
UID:1330-1760034600-1760040000@aceofcupsmaui.com
SUMMARY:Intuitive Circle
DESCRIPTION:Join us for our monthly Late Night at Ace of Cups! Connect and meet other Tarot enthusiasts! We’ll have a table set up for trading deck cards that you don’t connect with\, so you can swap and play. This is a fantastic opportunity to practice reading for others and spend quality time with our wonderful community. We can’t wait to see you there and share some joyful moments together!
URL:https://aceofcupsmaui.com/event/intuitive-circle-oct-2025/
LOCATION:Ace of Cups Maui\, 810 Kokomo Road Unit 184\, Haiku\, HI\, 96708
ATTACH;FMTTYPE=image/jpeg:https://aceofcupsmaui.com/wp-content/uploads/2025/10/ace-of-cups-intuitive-circle-oct-2025.jpg
END:VEVENT
BEGIN:VEVENT
DTSTART;TZID=Pacific/Honolulu:20250830T183000
DTEND;TZID=Pacific/Honolulu:20250830T194500
DTSTAMP:20260423T020309
CREATED:20250822T175827Z
LAST-MODIFIED:20250822T180637Z
UID:1287-1756578600-1756583100@aceofcupsmaui.com
SUMMARY:The Inner Life - An Energy Healing Salon
DESCRIPTION:Join us for our monthly Late Night at Ace of Cups! Connect and meet other Tarot enthusiasts! We’ll have a table set up for trading deck cards that you don’t connect with\, so you can swap and play. This is a fantastic opportunity to practice reading for others and spend quality time with our wonderful community. We can’t wait to see you there and share some joyful moments together!
URL:https://aceofcupsmaui.com/event/the-inner-life-energy-healing-august-2025/
LOCATION:Ace of Cups Maui\, 810 Kokomo Road Unit 184\, Haiku\, HI\, 96708
ATTACH;FMTTYPE=image/jpeg:https://aceofcupsmaui.com/wp-content/uploads/2025/08/ace-of-cups-maui-event-inner-life-energy-healing-poster-aug-2025jpg.jpg
END:VEVENT
BEGIN:VEVENT
DTSTART;TZID=Pacific/Honolulu:20250820T180000
DTEND;TZID=Pacific/Honolulu:20250820T200000
DTSTAMP:20260423T020309
CREATED:20250817T011039Z
LAST-MODIFIED:20250817T011921Z
UID:1275-1755712800-1755720000@aceofcupsmaui.com
SUMMARY:August Late Night
DESCRIPTION:Join us for our monthly Late Night at Ace of Cups! Connect and meet other Tarot enthusiasts! We’ll have a table set up for trading deck cards that you don’t connect with\, so you can swap and play. This is a fantastic opportunity to practice reading for others and spend quality time with our wonderful community. We can’t wait to see you there and share some joyful moments together!
URL:https://aceofcupsmaui.com/event/august-late-night-2025/
LOCATION:Ace of Cups Maui\, 810 Kokomo Road Unit 184\, Haiku\, HI\, 96708
ATTACH;FMTTYPE=image/jpeg:https://aceofcupsmaui.com/wp-content/uploads/2025/08/ace-of-cups-maui-event-late-night-august-2025.jpg
END:VEVENT
BEGIN:VEVENT
DTSTART;TZID=Pacific/Honolulu:20250716T180000
DTEND;TZID=Pacific/Honolulu:20250716T200000
DTSTAMP:20260423T020309
CREATED:20250717T002135Z
LAST-MODIFIED:20250717T002643Z
UID:1263-1752688800-1752696000@aceofcupsmaui.com
SUMMARY:July Late Night
DESCRIPTION:Join us for our monthly Late Night at Ace of Cups! Connect and meet other Tarot enthusiasts! We’ll have a table set up for trading deck cards that you don’t connect with\, so you can swap and play. This is a fantastic opportunity to practice reading for others and spend quality time with our wonderful community. We can’t wait to see you there and share some joyful moments together!
URL:https://aceofcupsmaui.com/event/july-late-night-2025/
LOCATION:Ace of Cups Maui\, 810 Kokomo Road Unit 184\, Haiku\, HI\, 96708
ATTACH;FMTTYPE=image/jpeg:https://aceofcupsmaui.com/wp-content/uploads/2025/07/ace-of-cups-maui-event-late-night-july-16-25.jpg
END:VEVENT
BEGIN:VEVENT
DTSTART;TZID=Pacific/Honolulu:20250618T180000
DTEND;TZID=Pacific/Honolulu:20250618T200000
DTSTAMP:20260423T020309
CREATED:20250605T223307Z
LAST-MODIFIED:20250817T011304Z
UID:1255-1750269600-1750276800@aceofcupsmaui.com
SUMMARY:June Late Night
DESCRIPTION:Join us for our monthly Late Night at Ace of Cups! Connect and meet other Tarot enthusiasts! We’ll have a table set up for trading deck cards that you don’t connect with\, so you can swap and play. This is a fantastic opportunity to practice reading for others and spend quality time with our wonderful community. We can’t wait to see you there and share some joyful moments together!
URL:https://aceofcupsmaui.com/event/june-late-night/
LOCATION:Hawaii
ATTACH;FMTTYPE=image/jpeg:https://aceofcupsmaui.com/wp-content/uploads/2025/06/6.18.25.jpg
END:VEVENT
BEGIN:VEVENT
DTSTART;TZID=Pacific/Honolulu:20250611T180000
DTEND;TZID=Pacific/Honolulu:20250611T200000
DTSTAMP:20260423T020309
CREATED:20250605T222434Z
LAST-MODIFIED:20250606T033805Z
UID:1250-1749664800-1749672000@aceofcupsmaui.com
SUMMARY:Full Moon Circle
DESCRIPTION:Join us for our monthly Late Night at Ace of Cups! Connect and meet other Tarot enthusiasts! We’ll have a table set up for trading deck cards that you don’t connect with\, so you can swap and play. This is a fantastic opportunity to practice reading for others and spend quality time with our wonderful community. We can’t wait to see you there and share some joyful moments together!
URL:https://aceofcupsmaui.com/event/full-moon-circle/
LOCATION:Ace of Cups Maui\, 810 Kokomo Road Unit 184\, Haiku\, HI\, 96708
ATTACH;FMTTYPE=image/jpeg:https://aceofcupsmaui.com/wp-content/uploads/2025/06/Full-Moon-Circle-Pink.jpg
END:VEVENT
BEGIN:VEVENT
DTSTART;TZID=Pacific/Honolulu:20250517T160000
DTEND;TZID=Pacific/Honolulu:20250517T173000
DTSTAMP:20260423T020309
CREATED:20250516T014518Z
LAST-MODIFIED:20250516T034158Z
UID:1233-1747497600-1747503000@aceofcupsmaui.com
SUMMARY:Card Readings 101 with Sabrina
DESCRIPTION:Join us for our monthly Late Night at Ace of Cups! Connect and meet other Tarot enthusiasts! We’ll have a table set up for trading deck cards that you don’t connect with\, so you can swap and play. This is a fantastic opportunity to practice reading for others and spend quality time with our wonderful community. We can’t wait to see you there and share some joyful moments together!
URL:https://aceofcupsmaui.com/event/card-readings-101-with-sabrina/
LOCATION:Ace of Cups Maui\, 810 Kokomo Road Unit 184\, Haiku\, HI\, 96708
ATTACH;FMTTYPE=image/jpeg:https://aceofcupsmaui.com/wp-content/uploads/2025/05/ace-of-cups-event-card-reading-101-may-2025.jpg
END:VEVENT
BEGIN:VEVENT
DTSTART;VALUE=DATE:20250410
DTEND;VALUE=DATE:20250411
DTSTAMP:20260423T020309
CREATED:20250326T203221Z
LAST-MODIFIED:20250326T203221Z
UID:1217-1744243200-1744329599@aceofcupsmaui.com
SUMMARY:Psychic Intuitive Sessions and Oracle Cards Readings
DESCRIPTION:Join us for our monthly Late Night at Ace of Cups! Connect and meet other Tarot enthusiasts! We’ll have a table set up for trading deck cards that you don’t connect with\, so you can swap and play. This is a fantastic opportunity to practice reading for others and spend quality time with our wonderful community. We can’t wait to see you there and share some joyful moments together!
URL:https://aceofcupsmaui.com/event/psychic-intuitive-sessions-and-oracle-cards-readings-2/
LOCATION:Ace of Cups Maui\, 810 Kokomo Road Unit 184\, Haiku\, HI\, 96708
ATTACH;FMTTYPE=image/jpeg:https://aceofcupsmaui.com/wp-content/uploads/2025/03/karin-olsen-readings-ace-of-cups-april-2025.jpg
END:VEVENT
BEGIN:VEVENT
DTSTART;VALUE=DATE:20250403
DTEND;VALUE=DATE:20250404
DTSTAMP:20260423T020309
CREATED:20250326T202002Z
LAST-MODIFIED:20250326T202947Z
UID:1209-1743638400-1743724799@aceofcupsmaui.com
SUMMARY:Psychic Intuitive Sessions and Oracle Cards Readings
DESCRIPTION:Join us for our monthly Late Night at Ace of Cups! Connect and meet other Tarot enthusiasts! We’ll have a table set up for trading deck cards that you don’t connect with\, so you can swap and play. This is a fantastic opportunity to practice reading for others and spend quality time with our wonderful community. We can’t wait to see you there and share some joyful moments together!
URL:https://aceofcupsmaui.com/event/psychic-intuitive-sessions-and-oracle-cards-readings/
LOCATION:Ace of Cups Maui\, 810 Kokomo Road Unit 184\, Haiku\, HI\, 96708
ATTACH;FMTTYPE=image/jpeg:https://aceofcupsmaui.com/wp-content/uploads/2025/03/karin-olsen-readings-ace-of-cups-april-2025.jpg
END:VEVENT
BEGIN:VEVENT
DTSTART;TZID=Pacific/Honolulu:20250402T140000
DTEND;TZID=Pacific/Honolulu:20250402T160000
DTSTAMP:20260423T020309
CREATED:20250326T192908Z
LAST-MODIFIED:20250326T205019Z
UID:1195-1743602400-1743609600@aceofcupsmaui.com
SUMMARY:Mediumship in the Afternoon
DESCRIPTION:Join us for our monthly Late Night at Ace of Cups! Connect and meet other Tarot enthusiasts! We’ll have a table set up for trading deck cards that you don’t connect with\, so you can swap and play. This is a fantastic opportunity to practice reading for others and spend quality time with our wonderful community. We can’t wait to see you there and share some joyful moments together!
URL:https://aceofcupsmaui.com/event/mediumship-in-the-afternoon/
LOCATION:Ace of Cups Maui\, 810 Kokomo Road Unit 184\, Haiku\, HI\, 96708
ATTACH;FMTTYPE=image/jpeg:https://aceofcupsmaui.com/wp-content/uploads/2025/03/mediumship-afternoon-ace-of-cups-april-2025.jpg
END:VEVENT
BEGIN:VEVENT
DTSTART;TZID=Pacific/Honolulu:20250319T180000
DTEND;TZID=Pacific/Honolulu:20250319T200000
DTSTAMP:20260423T020309
CREATED:20250308T224449Z
LAST-MODIFIED:20250312T004800Z
UID:944-1742407200-1742414400@aceofcupsmaui.com
SUMMARY:Late Night
DESCRIPTION:Join us for our monthly Late Night at Ace of Cups! Connect and meet other Tarot enthusiasts! We’ll have a table set up for trading deck cards that you don’t connect with\, so you can swap and play. This is a fantastic opportunity to practice reading for others and spend quality time with our wonderful community. We can’t wait to see you there and share some joyful moments together!
URL:https://aceofcupsmaui.com/event/late-night-2/
LOCATION:Ace of Cups Maui\, 810 Kokomo Road Unit 184\, Haiku\, HI\, 96708
ATTACH;FMTTYPE=image/jpeg:https://aceofcupsmaui.com/wp-content/uploads/2025/03/ace-of-cups-tarot-cards-layout.jpg
END:VEVENT
BEGIN:VEVENT
DTSTART;TZID=Pacific/Honolulu:20250316T140000
DTEND;TZID=Pacific/Honolulu:20250316T160000
DTSTAMP:20260423T020309
CREATED:20250307T185515Z
LAST-MODIFIED:20250307T210923Z
UID:915-1742133600-1742140800@aceofcupsmaui.com
SUMMARY:Tea Leaf Reading Workshop
DESCRIPTION:Join us for our monthly Late Night at Ace of Cups! Connect and meet other Tarot enthusiasts! We’ll have a table set up for trading deck cards that you don’t connect with\, so you can swap and play. This is a fantastic opportunity to practice reading for others and spend quality time with our wonderful community. We can’t wait to see you there and share some joyful moments together!
URL:https://aceofcupsmaui.com/event/tea-leaf-reading-workshop/
LOCATION:Ace of Cups Maui\, 810 Kokomo Road Unit 184\, Haiku\, HI\, 96708
ATTACH;FMTTYPE=image/jpeg:https://aceofcupsmaui.com/wp-content/uploads/2025/03/ace-of-cups-event-march-16-2025-tea-leaf-reading.jpg
END:VEVENT
BEGIN:VEVENT
DTSTART;TZID=Pacific/Honolulu:20250122T180000
DTEND;TZID=Pacific/Honolulu:20250122T200000
DTSTAMP:20260423T020309
CREATED:20241128T202758Z
LAST-MODIFIED:20250321T031126Z
UID:342-1737568800-1737576000@aceofcupsmaui.com
SUMMARY:Metaphysical Singles Night
DESCRIPTION:Join us for our monthly Late Night at Ace of Cups! Connect and meet other Tarot enthusiasts! We’ll have a table set up for trading deck cards that you don’t connect with\, so you can swap and play. This is a fantastic opportunity to practice reading for others and spend quality time with our wonderful community. We can’t wait to see you there and share some joyful moments together!
URL:https://aceofcupsmaui.com/event/metaphysical-singles-night/
LOCATION:Ace of Cups Maui\, 810 Kokomo Road Unit 184\, Haiku\, HI\, 96708
ATTACH;FMTTYPE=image/jpeg:https://aceofcupsmaui.com/wp-content/uploads/2024/11/ace-of-cups-metaphysical-singles-night.jpg
END:VEVENT
BEGIN:VEVENT
DTSTART;TZID=Pacific/Honolulu:20241218T180000
DTEND;TZID=Pacific/Honolulu:20241218T200000
DTSTAMP:20260423T020309
CREATED:20241130T021059Z
LAST-MODIFIED:20250312T005107Z
UID:452-1734544800-1734552000@aceofcupsmaui.com
SUMMARY:Late Night
DESCRIPTION:Join us for our monthly Late Night at Ace of Cups! Connect and meet other Tarot enthusiasts! We’ll have a table set up for trading deck cards that you don’t connect with\, so you can swap and play. This is a fantastic opportunity to practice reading for others and spend quality time with our wonderful community. We can’t wait to see you there and share some joyful moments together!
URL:https://aceofcupsmaui.com/event/late-night/
LOCATION:Ace of Cups Maui\, 810 Kokomo Road Unit 184\, Haiku\, HI\, 96708
ATTACH;FMTTYPE=image/jpeg:https://aceofcupsmaui.com/wp-content/uploads/2025/03/ace-of-cups-tarot-cards-layout.jpg
END:VEVENT
END:VCALENDAR